BEGIN:VCALENDAR
VERSION:2.0
PRODID:-//Turtle&#039;s Landing Winery - ECPv6.15.20//NONSGML v1.0//EN
CALSCALE:GREGORIAN
METHOD:PUBLISH
X-WR-CALNAME:Turtle&#039;s Landing Winery
X-ORIGINAL-URL:https://turtleslanding.com
X-WR-CALDESC:Events for Turtle&#039;s Landing Winery
REFRESH-INTERVAL;VALUE=DURATION:PT1H
X-Robots-Tag:noindex
X-PUBLISHED-TTL:PT1H
BEGIN:VTIMEZONE
TZID:America/New_York
BEGIN:DAYLIGHT
TZOFFSETFROM:-0500
TZOFFSETTO:-0400
TZNAME:EDT
DTSTART:20250309T070000
END:DAYLIGHT
BEGIN:STANDARD
TZOFFSETFROM:-0400
TZOFFSETTO:-0500
TZNAME:EST
DTSTART:20251102T060000
END:STANDARD
BEGIN:DAYLIGHT
TZOFFSETFROM:-0500
TZOFFSETTO:-0400
TZNAME:EDT
DTSTART:20260308T070000
END:DAYLIGHT
BEGIN:STANDARD
TZOFFSETFROM:-0400
TZOFFSETTO:-0500
TZNAME:EST
DTSTART:20261101T060000
END:STANDARD
BEGIN:DAYLIGHT
TZOFFSETFROM:-0500
TZOFFSETTO:-0400
TZNAME:EDT
DTSTART:20270314T070000
END:DAYLIGHT
BEGIN:STANDARD
TZOFFSETFROM:-0400
TZOFFSETTO:-0500
TZNAME:EST
DTSTART:20271107T060000
END:STANDARD
END:VTIMEZONE
BEGIN:VEVENT
DTSTART;TZID=America/New_York:20260514T000000
DTEND;TZID=America/New_York:20260514T235959
DTSTAMP:20260423T043553
CREATED:20260321T161934Z
LAST-MODIFIED:20260402T132050Z
UID:3147-1778716800-1778803199@turtleslanding.com
SUMMARY:Private Event
DESCRIPTION:The winery will be closed Thursday\, May 14 for a private event.
URL:https://turtleslanding.com/event/private-event/
LOCATION:Turtle’s Landing Winery\, 1049 Creek Rd\, Clearfield\, PA\, 16830\, United States
CATEGORIES:Winery Closed
END:VEVENT
END:VCALENDAR